BEGIN:VCALENDAR
VERSION:2.0
PRODID:-//hacksw/handcal//NONSGML v1.0//EN
BEGIN:VEVENT
SUMMARY:TOURNOI DE MAGLAND
UID:8e8433ca-7b52-4967-b218-a9a28fa75a0e
DTSTART:20260418T220000Z
DTEND:20260419T220000Z
LOCATION:Localisation   
CATEGORIES:Sportif
STATUS:
URL;VALUE=URI:https://www.judoclubdesbrasses.com/evenements/2026/04/19/tournoi-de-magland-2441585
END:VEVENT
END:VCALENDAR
